BEGIN:VCALENDAR
VERSION:2.0
PRODID:-//eventon.com NONSGML v1.0//EN
BEGIN:VEVENT
UID:69e73cf68a71c
DTSTAMP:20260421T050142
DTSTART:20210502T000000Z
DTEND:20210502T035000Z
LOCATION:Old City Public House 200 Portion Road
SUMMARY:Mr. Chrisp
DESCRIPTION: Mr. Chrisp
END:VEVENT
END:VCALENDAR