BEGIN:VCALENDAR
VERSION:2.0
PRODID:-//eventon.com NONSGML v1.0//EN
BEGIN:VEVENT
UID:69e751da41314
DTSTAMP:20260421T063050
DTSTART:20200229T233000Z
DTEND:20200301T023000Z
LOCATION:Old City Public House 200 Portion Road
SUMMARY:Mr. Chrisp
DESCRIPTION: Mr. Chrisp
END:VEVENT
END:VCALENDAR